BEGIN:VCALENDAR
VERSION:2.0
PRODID:-//Humane Haven Animal Shelter - ECPv6.15.16//NONSGML v1.0//EN
CALSCALE:GREGORIAN
METHOD:PUBLISH
X-ORIGINAL-URL:https://www.hhas.org
X-WR-CALDESC:Events for Humane Haven Animal Shelter
REFRESH-INTERVAL;VALUE=DURATION:PT1H
X-Robots-Tag:noindex
X-PUBLISHED-TTL:PT1H
BEGIN:VTIMEZONE
TZID:America/Chicago
BEGIN:DAYLIGHT
TZOFFSETFROM:-0600
TZOFFSETTO:-0500
TZNAME:CDT
DTSTART:20230312T080000
END:DAYLIGHT
BEGIN:STANDARD
TZOFFSETFROM:-0500
TZOFFSETTO:-0600
TZNAME:CST
DTSTART:20231105T070000
END:STANDARD
BEGIN:DAYLIGHT
TZOFFSETFROM:-0600
TZOFFSETTO:-0500
TZNAME:CDT
DTSTART:20240310T080000
END:DAYLIGHT
BEGIN:STANDARD
TZOFFSETFROM:-0500
TZOFFSETTO:-0600
TZNAME:CST
DTSTART:20241103T070000
END:STANDARD
BEGIN:DAYLIGHT
TZOFFSETFROM:-0600
TZOFFSETTO:-0500
TZNAME:CDT
DTSTART:20250309T080000
END:DAYLIGHT
BEGIN:STANDARD
TZOFFSETFROM:-0500
TZOFFSETTO:-0600
TZNAME:CST
DTSTART:20251102T070000
END:STANDARD
END:VTIMEZONE
BEGIN:VEVENT
DTSTART;TZID=America/Chicago:20241009T110000
DTEND;TZID=America/Chicago:20241009T210000
DTSTAMP:20260422T023914
CREATED:20240923T025437Z
LAST-MODIFIED:20240923T025438Z
UID:10000061-1728471600-1728507600@www.hhas.org
SUMMARY:Pizza Party for a Cause!
DESCRIPTION:We are THRILLED to announce our next fundraiser is with Little Pops NY Pizzeria Trattoria Lisle and Little Pops New York Pizzeria To Go!!! \nWhen: Wednesday\, October 9th \nTime: 11 am – 9 pm \nWhere: \n\nNaperville — 1819 Wehrli Rd\, Naperville – pickup and delivery (within 14 mins)   630-210-8084\nLisle — 2799 Maple Ave\, Lisle (Maple Ave just west of Naper Blvd) – full restaurant and pickup    630-687-8444\n\nWhat: Little Pops Pizzeria will donate 20% of sales when you mention Humane Haven on Oct 9th at either location. See flyer for more details. \nPlease spread the word! Share this flyer with your friends and family! This is posted on Facebook as well. If you’re on that platform\, please share with your FB friends!
URL:https://www.hhas.org/event/little-pops-pizza-party-for-hhas/
LOCATION:Little Pops Lisle and Little Pops Naperville
CATEGORIES:Charity,Fundraising
ATTACH;FMTTYPE=image/png:https://www.hhas.org/wp-content/uploads/2018/11/sketchport-pizza_cat_shelly-e1541474203916.png
ORGANIZER;CN="Humane Haven Animal Shelter":MAILTO:humanehaven@gmail.com
END:VEVENT
END:VCALENDAR