BEGIN:VCALENDAR
VERSION:2.0
PRODID:-//Humane Haven Animal Shelter - ECPv6.15.16//NONSGML v1.0//EN
CALSCALE:GREGORIAN
METHOD:PUBLISH
X-ORIGINAL-URL:https://www.hhas.org
X-WR-CALDESC:Events for Humane Haven Animal Shelter
REFRESH-INTERVAL;VALUE=DURATION:PT1H
X-Robots-Tag:noindex
X-PUBLISHED-TTL:PT1H
BEGIN:VTIMEZONE
TZID:America/Chicago
BEGIN:DAYLIGHT
TZOFFSETFROM:-0600
TZOFFSETTO:-0500
TZNAME:CDT
DTSTART:20230312T080000
END:DAYLIGHT
BEGIN:STANDARD
TZOFFSETFROM:-0500
TZOFFSETTO:-0600
TZNAME:CST
DTSTART:20231105T070000
END:STANDARD
BEGIN:DAYLIGHT
TZOFFSETFROM:-0600
TZOFFSETTO:-0500
TZNAME:CDT
DTSTART:20240310T080000
END:DAYLIGHT
BEGIN:STANDARD
TZOFFSETFROM:-0500
TZOFFSETTO:-0600
TZNAME:CST
DTSTART:20241103T070000
END:STANDARD
BEGIN:DAYLIGHT
TZOFFSETFROM:-0600
TZOFFSETTO:-0500
TZNAME:CDT
DTSTART:20250309T080000
END:DAYLIGHT
BEGIN:STANDARD
TZOFFSETFROM:-0500
TZOFFSETTO:-0600
TZNAME:CST
DTSTART:20251102T070000
END:STANDARD
END:VTIMEZONE
BEGIN:VEVENT
DTSTART;TZID=America/Chicago:20240504T133000
DTEND;TZID=America/Chicago:20240504T153000
DTSTAMP:20260421T135013
CREATED:20240502T012343Z
LAST-MODIFIED:20240502T012343Z
UID:10000057-1714829400-1714836600@www.hhas.org
SUMMARY:Kitten Event Saturday May 4th 2024
DESCRIPTION:On Saturday\, May 4th at the Bolingbrook PetSmart\, we are having adoption hours featuring our first kittens of the season! \nCome meet adoptable cats Grace\, Samantha and Mr Bond\, as well as our first kittens of the season: Taylor\, Sterling\, Kennedy and Quincy. This is their debut to the public\, and we can’t wait to see who has their hearts captured by one of these five kittens or available kitties! \nThe event will be held from 1:30pm to 3:30pm. If you’re curious about the adoption process\, please check out our overview. We hope to see you there on Saturday\, and hope that you find your purrr-fect new companion!
URL:https://www.hhas.org/event/kitten-event-saturday-may4-2024/
LOCATION:PetSmart – Bolingbrook\, 159 N Weber Rd\, Bolingbrook\, IL\, 60490\, United States
CATEGORIES:Adoption,Exhibition,PetSmart,PetSmart-Adoption-Hours
ATTACH;FMTTYPE=image/png:https://www.hhas.org/wp-content/uploads/2017/11/pixabay_com-adopt-2167903_640-e1510204704511.png
ORGANIZER;CN="Humane Haven Animal Shelter":MAILTO:humanehaven@gmail.com
GEO:41.6991666;-88.1269512
X-APPLE-STRUCTURED-LOCATION;VALUE=URI;X-ADDRESS=PetSmart – Bolingbrook 159 N Weber Rd Bolingbrook IL 60490 United States;X-APPLE-RADIUS=500;X-TITLE=159 N Weber Rd:geo:-88.1269512,41.6991666
END:VEVENT
BEGIN:VEVENT
DTSTART;TZID=America/Chicago:20240511T130000
DTEND;TZID=America/Chicago:20240511T153000
DTSTAMP:20260421T135013
CREATED:20240508T125036Z
LAST-MODIFIED:20240508T125036Z
UID:10000058-1715432400-1715441400@www.hhas.org
SUMMARY:Kitten Event Saturday May 11th 2024
DESCRIPTION:On Saturday\, May 11th at the Bolingbrook PetSmart\, we are having adoption hours featuring our kittens so far this season! \nCome meet adoptable cats Grace\, Darla\, Samantha and Mr Bond\, as well as our second kitten litter of the season: Strawberry Hill\, Boone’s Farm\, Annie Greensprings and Chianti.  Also attending are Taylor\, Sterling\, Kennedy and Quincy. We can’t wait to see who has their hearts captured by one of these five kittens or available kitties! \nThe event will be held from 1:00pm to 3:30pm. If you’re curious about the adoption process\, please check out our overview. We hope to see you there on Saturday\, and hope that you find your purrr-fect new companion!
URL:https://www.hhas.org/event/kitten-event-saturday-may-11th-2024/
LOCATION:PetSmart – Bolingbrook\, 159 N Weber Rd\, Bolingbrook\, IL\, 60490\, United States
CATEGORIES:Adoption,Exhibition,PetSmart,PetSmart-Adoption-Hours
ATTACH;FMTTYPE=image/png:https://www.hhas.org/wp-content/uploads/2017/11/pixabay_com-adopt-2167903_640-e1510204704511.png
ORGANIZER;CN="Humane Haven Animal Shelter":MAILTO:humanehaven@gmail.com
GEO:41.6991666;-88.1269512
X-APPLE-STRUCTURED-LOCATION;VALUE=URI;X-ADDRESS=PetSmart – Bolingbrook 159 N Weber Rd Bolingbrook IL 60490 United States;X-APPLE-RADIUS=500;X-TITLE=159 N Weber Rd:geo:-88.1269512,41.6991666
END:VEVENT
BEGIN:VEVENT
DTSTART;TZID=America/Chicago:20240518T130000
DTEND;TZID=America/Chicago:20240518T153000
DTSTAMP:20260421T135013
CREATED:20240517T020739Z
LAST-MODIFIED:20240517T020739Z
UID:10000059-1716037200-1716046200@www.hhas.org
SUMMARY:Kitten Event Saturday May 18th 2024
DESCRIPTION:  \n \nOn Saturday\, May 18th at the Bolingbrook PetSmart\, we are having adoption hours featuring our kittens so far this season! \nCome meet adoptable cats Grace\, Darla\, Samantha\, Sir Catrick Stewart and Mr Bond. Also attending is kitten Quincy. We can’t wait to see who has their hearts captured by one of these available kitties! \nThe event will be held from 1:00pm to 3:30pm. If you’re curious about the adoption process\, please check out our overview. We hope to see you there on Saturday\, and hope that you find your purrr-fect new companion!
URL:https://www.hhas.org/event/kitten-event-saturday-may-18-2024/
LOCATION:PetSmart – Bolingbrook\, 159 N Weber Rd\, Bolingbrook\, IL\, 60490\, United States
CATEGORIES:Adoption,Exhibition,PetSmart,PetSmart-Adoption-Hours
ATTACH;FMTTYPE=image/png:https://www.hhas.org/wp-content/uploads/2017/11/pixabay_com-adopt-2167903_640-e1510204704511.png
ORGANIZER;CN="Humane Haven Animal Shelter":MAILTO:humanehaven@gmail.com
GEO:41.6991666;-88.1269512
X-APPLE-STRUCTURED-LOCATION;VALUE=URI;X-ADDRESS=PetSmart – Bolingbrook 159 N Weber Rd Bolingbrook IL 60490 United States;X-APPLE-RADIUS=500;X-TITLE=159 N Weber Rd:geo:-88.1269512,41.6991666
END:VEVENT
END:VCALENDAR