BEGIN:VCALENDAR
VERSION:2.0
PRODID:-//Humane Haven Animal Shelter - ECPv6.15.16//NONSGML v1.0//EN
CALSCALE:GREGORIAN
METHOD:PUBLISH
X-WR-CALNAME:Humane Haven Animal Shelter
X-ORIGINAL-URL:https://www.hhas.org
X-WR-CALDESC:Events for Humane Haven Animal Shelter
REFRESH-INTERVAL;VALUE=DURATION:PT1H
X-Robots-Tag:noindex
X-PUBLISHED-TTL:PT1H
BEGIN:VTIMEZONE
TZID:America/Chicago
BEGIN:DAYLIGHT
TZOFFSETFROM:-0600
TZOFFSETTO:-0500
TZNAME:CDT
DTSTART:20220313T080000
END:DAYLIGHT
BEGIN:STANDARD
TZOFFSETFROM:-0500
TZOFFSETTO:-0600
TZNAME:CST
DTSTART:20221106T070000
END:STANDARD
BEGIN:DAYLIGHT
TZOFFSETFROM:-0600
TZOFFSETTO:-0500
TZNAME:CDT
DTSTART:20230312T080000
END:DAYLIGHT
BEGIN:STANDARD
TZOFFSETFROM:-0500
TZOFFSETTO:-0600
TZNAME:CST
DTSTART:20231105T070000
END:STANDARD
BEGIN:DAYLIGHT
TZOFFSETFROM:-0600
TZOFFSETTO:-0500
TZNAME:CDT
DTSTART:20240310T080000
END:DAYLIGHT
BEGIN:STANDARD
TZOFFSETFROM:-0500
TZOFFSETTO:-0600
TZNAME:CST
DTSTART:20241103T070000
END:STANDARD
END:VTIMEZONE
BEGIN:VEVENT
DTSTART;TZID=America/Chicago:20230729T133000
DTEND;TZID=America/Chicago:20230729T160000
DTSTAMP:20260422T064534
CREATED:20230725T015848Z
LAST-MODIFIED:20230725T015848Z
UID:10000043-1690637400-1690646400@www.hhas.org
SUMMARY:Kitten Adoption Event Sat Jul 29 and Sun Jul 30!
DESCRIPTION:We’ll be debuting MORE kittens this weekend – July 29th and 30th! Come meet these delightful little kittens from 1:30 – 4 pm on Saturday and Sunday at the Bolingbrook PetSmart!\n\n\nLearn more about our adoption process at www.hhas.org/adoption-info/!
URL:https://www.hhas.org/event/kitten-adoption-event-sat-jul-29-and-sun-jul-30/2023-07-29/
LOCATION:PetSmart – Bolingbrook\, 159 N Weber Rd\, Bolingbrook\, IL\, 60490\, United States
CATEGORIES:Adoption,Exhibition,PetSmart,PetSmart-Adoption-Hours
ATTACH;FMTTYPE=image/png:https://www.hhas.org/wp-content/uploads/2023/07/HHAS-Kitten-Adoption-Event-072923.png
GEO:41.6991666;-88.1269512
X-APPLE-STRUCTURED-LOCATION;VALUE=URI;X-ADDRESS=PetSmart – Bolingbrook 159 N Weber Rd Bolingbrook IL 60490 United States;X-APPLE-RADIUS=500;X-TITLE=159 N Weber Rd:geo:-88.1269512,41.6991666
END:VEVENT
END:VCALENDAR