BEGIN:VCALENDAR
VERSION:2.0
PRODID:-//Humane Haven Animal Shelter - ECPv6.15.16//NONSGML v1.0//EN
CALSCALE:GREGORIAN
METHOD:PUBLISH
X-WR-CALNAME:Humane Haven Animal Shelter
X-ORIGINAL-URL:https://www.hhas.org
X-WR-CALDESC:Events for Humane Haven Animal Shelter
REFRESH-INTERVAL;VALUE=DURATION:PT1H
X-Robots-Tag:noindex
X-PUBLISHED-TTL:PT1H
BEGIN:VTIMEZONE
TZID:America/Chicago
BEGIN:DAYLIGHT
TZOFFSETFROM:-0600
TZOFFSETTO:-0500
TZNAME:CDT
DTSTART:20160313T080000
END:DAYLIGHT
BEGIN:STANDARD
TZOFFSETFROM:-0500
TZOFFSETTO:-0600
TZNAME:CST
DTSTART:20161106T070000
END:STANDARD
BEGIN:DAYLIGHT
TZOFFSETFROM:-0600
TZOFFSETTO:-0500
TZNAME:CDT
DTSTART:20170312T080000
END:DAYLIGHT
BEGIN:STANDARD
TZOFFSETFROM:-0500
TZOFFSETTO:-0600
TZNAME:CST
DTSTART:20171105T070000
END:STANDARD
BEGIN:DAYLIGHT
TZOFFSETFROM:-0600
TZOFFSETTO:-0500
TZNAME:CDT
DTSTART:20180311T080000
END:DAYLIGHT
BEGIN:STANDARD
TZOFFSETFROM:-0500
TZOFFSETTO:-0600
TZNAME:CST
DTSTART:20181104T070000
END:STANDARD
END:VTIMEZONE
BEGIN:VEVENT
DTSTART;TZID=America/Chicago:20170608T060000
DTEND;TZID=America/Chicago:20170608T210000
DTSTAMP:20260421T045221
CREATED:20170519T005508Z
LAST-MODIFIED:20170519T005519Z
UID:10000013-1496901600-1496955600@www.hhas.org
SUMMARY:Panera Bread fundraiser!
DESCRIPTION:Do you want to enjoy a good meal that also does good for homeless pets in the community? If so\, come help us raise some dough for our four-legged friends! We are partnering with Panera Bread (714 E. Boughton Road in Bolingbrook\, near Ikea and I-355 —  see map above) on Thursday\, June 8 from open to close. When you present the flier below during your order\, you will help us raise money to help feed and care for our homeless pets!\nWe encourage you to share the below flier (in paper copy or an electronic version – you can download the flier in PDF format) with your family and friends. Then make sure to mark your calendar with the date to meet us at Panera! We can’t wait to see you and share good food that does good for our pets!
URL:https://www.hhas.org/event/panera-bread-fundraiser/
LOCATION:Panera Bread 714 E Boughton Rd\, 714 E. Boughton Rd\, Bolingbrook\, IL\, 60440\, United States
CATEGORIES:Fundraising
ORGANIZER;CN="Humane Haven Animal Shelter":MAILTO:humanehaven@gmail.com
GEO:41.7248012;-88.0374518
X-APPLE-STRUCTURED-LOCATION;VALUE=URI;X-ADDRESS=Panera Bread 714 E Boughton Rd 714 E. Boughton Rd Bolingbrook IL 60440 United States;X-APPLE-RADIUS=500;X-TITLE=714 E. Boughton Rd:geo:-88.0374518,41.7248012
END:VEVENT
END:VCALENDAR